BEGIN:VCALENDAR
VERSION:2.0
PRODID:-//KULTURMÜHLE RECHBERGHAUSEN e.V.  - ECPv6.15.20//NONSGML v1.0//EN
CALSCALE:GREGORIAN
METHOD:PUBLISH
X-WR-CALNAME:KULTURMÜHLE RECHBERGHAUSEN e.V. 
X-ORIGINAL-URL:https://kulturmuehle-rechberghausen.de
X-WR-CALDESC:Veranstaltungen für KULTURMÜHLE RECHBERGHAUSEN e.V. 
REFRESH-INTERVAL;VALUE=DURATION:PT1H
X-Robots-Tag:noindex
X-PUBLISHED-TTL:PT1H
BEGIN:VTIMEZONE
TZID:Europe/Berlin
BEGIN:DAYLIGHT
TZOFFSETFROM:+0100
TZOFFSETTO:+0200
TZNAME:CEST
DTSTART:20240331T010000
END:DAYLIGHT
BEGIN:STANDARD
TZOFFSETFROM:+0200
TZOFFSETTO:+0100
TZNAME:CET
DTSTART:20241027T010000
END:STANDARD
BEGIN:DAYLIGHT
TZOFFSETFROM:+0100
TZOFFSETTO:+0200
TZNAME:CEST
DTSTART:20250330T010000
END:DAYLIGHT
BEGIN:STANDARD
TZOFFSETFROM:+0200
TZOFFSETTO:+0100
TZNAME:CET
DTSTART:20251026T010000
END:STANDARD
BEGIN:DAYLIGHT
TZOFFSETFROM:+0100
TZOFFSETTO:+0200
TZNAME:CEST
DTSTART:20260329T010000
END:DAYLIGHT
BEGIN:STANDARD
TZOFFSETFROM:+0200
TZOFFSETTO:+0100
TZNAME:CET
DTSTART:20261025T010000
END:STANDARD
END:VTIMEZONE
BEGIN:VEVENT
DTSTART;TZID=Europe/Berlin:20251206T140000
DTEND;TZID=Europe/Berlin:20251206T180000
DTSTAMP:20260425T002735
CREATED:20250802T152445Z
LAST-MODIFIED:20250802T152445Z
UID:4164-1765029600-1765044000@kulturmuehle-rechberghausen.de
SUMMARY:Weggefährten
DESCRIPTION:Link zur Veranstaltung (nicht in allen Ansichten aktiv)
URL:https://kulturmuehle-rechberghausen.de/event/weggefaehrten-6/
LOCATION:Kulturmühle Rechberghausen e.V.\, Bahnhofstr. 3\, Rechberghausen\, 73098\, Deutschland
END:VEVENT
BEGIN:VEVENT
DTSTART;TZID=Europe/Berlin:20251207T140000
DTEND;TZID=Europe/Berlin:20251207T180000
DTSTAMP:20260425T002735
CREATED:20250802T152553Z
LAST-MODIFIED:20250802T152553Z
UID:4166-1765116000-1765130400@kulturmuehle-rechberghausen.de
SUMMARY:Weggefährten
DESCRIPTION:Link zur Veranstaltung (nicht in allen Ansichten aktiv)
URL:https://kulturmuehle-rechberghausen.de/event/weggefaehrten-7/
LOCATION:Kulturmühle Rechberghausen e.V.\, Bahnhofstr. 3\, Rechberghausen\, 73098\, Deutschland
END:VEVENT
BEGIN:VEVENT
DTSTART;TZID=Europe/Berlin:20251209T193000
DTEND;TZID=Europe/Berlin:20251209T210000
DTSTAMP:20260425T002735
CREATED:20250522T082852Z
LAST-MODIFIED:20250522T082852Z
UID:4105-1765308600-1765314000@kulturmuehle-rechberghausen.de
SUMMARY:Stammtisch
DESCRIPTION:Stammtisch für Mitglieder der Kulturmühle e.V und solche die es vielleicht werden wollen. \nOrt: FLAIR Restaurant Sportpark Lindach\, Am Desenbach 6\, 73098 Rechberghausen.
URL:https://kulturmuehle-rechberghausen.de/event/stammtisch-11/
END:VEVENT
END:VCALENDAR