BEGIN:VCALENDAR
VERSION:2.0
PRODID:-//KULTURMÜHLE RECHBERGHAUSEN e.V.  - ECPv6.15.20//NONSGML v1.0//EN
CALSCALE:GREGORIAN
METHOD:PUBLISH
X-ORIGINAL-URL:https://kulturmuehle-rechberghausen.de
X-WR-CALDESC:Veranstaltungen für KULTURMÜHLE RECHBERGHAUSEN e.V. 
REFRESH-INTERVAL;VALUE=DURATION:PT1H
X-Robots-Tag:noindex
X-PUBLISHED-TTL:PT1H
BEGIN:VTIMEZONE
TZID:Europe/Berlin
BEGIN:DAYLIGHT
TZOFFSETFROM:+0100
TZOFFSETTO:+0200
TZNAME:CEST
DTSTART:20240331T010000
END:DAYLIGHT
BEGIN:STANDARD
TZOFFSETFROM:+0200
TZOFFSETTO:+0100
TZNAME:CET
DTSTART:20241027T010000
END:STANDARD
BEGIN:DAYLIGHT
TZOFFSETFROM:+0100
TZOFFSETTO:+0200
TZNAME:CEST
DTSTART:20250330T010000
END:DAYLIGHT
BEGIN:STANDARD
TZOFFSETFROM:+0200
TZOFFSETTO:+0100
TZNAME:CET
DTSTART:20251026T010000
END:STANDARD
BEGIN:DAYLIGHT
TZOFFSETFROM:+0100
TZOFFSETTO:+0200
TZNAME:CEST
DTSTART:20260329T010000
END:DAYLIGHT
BEGIN:STANDARD
TZOFFSETFROM:+0200
TZOFFSETTO:+0100
TZNAME:CET
DTSTART:20261025T010000
END:STANDARD
END:VTIMEZONE
BEGIN:VEVENT
DTSTART;TZID=Europe/Berlin:20251101T140000
DTEND;TZID=Europe/Berlin:20251101T180000
DTSTAMP:20260425T020842
CREATED:20250802T151346Z
LAST-MODIFIED:20250802T151346Z
UID:4148-1762005600-1762020000@kulturmuehle-rechberghausen.de
SUMMARY:Licht trifft Linie
DESCRIPTION:Link zur Veranstaltung (nicht in allen Ansichten aktiv)
URL:https://kulturmuehle-rechberghausen.de/event/licht-trifft-linie-7/
LOCATION:Kulturmühle Rechberghausen e.V.\, Bahnhofstr. 3\, Rechberghausen\, 73098\, Deutschland
END:VEVENT
BEGIN:VEVENT
DTSTART;TZID=Europe/Berlin:20251102T140000
DTEND;TZID=Europe/Berlin:20251102T180000
DTSTAMP:20260425T020842
CREATED:20250802T151420Z
LAST-MODIFIED:20250802T151455Z
UID:4150-1762092000-1762106400@kulturmuehle-rechberghausen.de
SUMMARY:Licht trifft Linie
DESCRIPTION:Link zur Veranstaltung (nicht in allen Ansichten aktiv)
URL:https://kulturmuehle-rechberghausen.de/event/licht-trifft-linie-8/
LOCATION:Kulturmühle Rechberghausen e.V.\, Bahnhofstr. 3\, Rechberghausen\, 73098\, Deutschland
END:VEVENT
BEGIN:VEVENT
DTSTART;TZID=Europe/Berlin:20251108T210000
DTEND;TZID=Europe/Berlin:20251109T020000
DTSTAMP:20260425T020842
CREATED:20250802T151629Z
LAST-MODIFIED:20251002T161915Z
UID:4152-1762635600-1762653600@kulturmuehle-rechberghausen.de
SUMMARY:Culture Mill Dance Party
DESCRIPTION:Link zur Veranstaltung (nicht in allen Ansichten aktiv)
URL:https://kulturmuehle-rechberghausen.de/event/culture-mill-dance-party-2/
LOCATION:Kulturmühle Rechberghausen e.V.\, Bahnhofstr. 3\, Rechberghausen\, 73098\, Deutschland
END:VEVENT
BEGIN:VEVENT
DTSTART;TZID=Europe/Berlin:20251121T190000
DTEND;TZID=Europe/Berlin:20251121T223000
DTSTAMP:20260425T020842
CREATED:20250802T151829Z
LAST-MODIFIED:20250802T151829Z
UID:4154-1763751600-1763764200@kulturmuehle-rechberghausen.de
SUMMARY:Weggefährten
DESCRIPTION:Link zur Veranstaltung (nicht in allen Ansichten aktiv) \nVernissage
URL:https://kulturmuehle-rechberghausen.de/event/weggefaehrten/
LOCATION:Kulturmühle Rechberghausen e.V.\, Bahnhofstr. 3\, Rechberghausen\, 73098\, Deutschland
END:VEVENT
BEGIN:VEVENT
DTSTART;TZID=Europe/Berlin:20251122T140000
DTEND;TZID=Europe/Berlin:20251122T180000
DTSTAMP:20260425T020842
CREATED:20250802T151935Z
LAST-MODIFIED:20250802T151935Z
UID:4156-1763820000-1763834400@kulturmuehle-rechberghausen.de
SUMMARY:Weggefährten
DESCRIPTION:Link zur Veranstaltung (nicht in allen Ansichten aktiv)
URL:https://kulturmuehle-rechberghausen.de/event/weggefaehrten-2/
LOCATION:Kulturmühle Rechberghausen e.V.\, Bahnhofstr. 3\, Rechberghausen\, 73098\, Deutschland
END:VEVENT
BEGIN:VEVENT
DTSTART;TZID=Europe/Berlin:20251123T140000
DTEND;TZID=Europe/Berlin:20251123T180000
DTSTAMP:20260425T020842
CREATED:20250802T152133Z
LAST-MODIFIED:20250802T152133Z
UID:4158-1763906400-1763920800@kulturmuehle-rechberghausen.de
SUMMARY:Weggefährten
DESCRIPTION:Link zur Veranstaltung (nicht in allen Ansichten aktiv)
URL:https://kulturmuehle-rechberghausen.de/event/weggefaehrten-3/
LOCATION:Kulturmühle Rechberghausen e.V.\, Bahnhofstr. 3\, Rechberghausen\, 73098\, Deutschland
END:VEVENT
BEGIN:VEVENT
DTSTART;TZID=Europe/Berlin:20251129T140000
DTEND;TZID=Europe/Berlin:20251129T180000
DTSTAMP:20260425T020842
CREATED:20250802T152249Z
LAST-MODIFIED:20250802T152249Z
UID:4160-1764424800-1764439200@kulturmuehle-rechberghausen.de
SUMMARY:Weggefährten
DESCRIPTION:Link zur Veranstaltung (nicht in allen Ansichten aktiv)
URL:https://kulturmuehle-rechberghausen.de/event/weggefaehrten-4/
LOCATION:Kulturmühle Rechberghausen e.V.\, Bahnhofstr. 3\, Rechberghausen\, 73098\, Deutschland
END:VEVENT
BEGIN:VEVENT
DTSTART;TZID=Europe/Berlin:20251130T140000
DTEND;TZID=Europe/Berlin:20251130T180000
DTSTAMP:20260425T020842
CREATED:20250802T152350Z
LAST-MODIFIED:20250802T152350Z
UID:4162-1764511200-1764525600@kulturmuehle-rechberghausen.de
SUMMARY:Weggefährten
DESCRIPTION:Link zur Veranstaltung (nicht in allen Ansichten aktiv)
URL:https://kulturmuehle-rechberghausen.de/event/weggefaehrten-5/
END:VEVENT
END:VCALENDAR