BEGIN:VCALENDAR
VERSION:2.0
PRODID:-//KULTURMÜHLE RECHBERGHAUSEN e.V.  - ECPv6.15.20//NONSGML v1.0//EN
CALSCALE:GREGORIAN
METHOD:PUBLISH
X-WR-CALNAME:KULTURMÜHLE RECHBERGHAUSEN e.V. 
X-ORIGINAL-URL:https://kulturmuehle-rechberghausen.de
X-WR-CALDESC:Veranstaltungen für KULTURMÜHLE RECHBERGHAUSEN e.V. 
REFRESH-INTERVAL;VALUE=DURATION:PT1H
X-Robots-Tag:noindex
X-PUBLISHED-TTL:PT1H
BEGIN:VTIMEZONE
TZID:Europe/Berlin
BEGIN:DAYLIGHT
TZOFFSETFROM:+0100
TZOFFSETTO:+0200
TZNAME:CEST
DTSTART:20240331T010000
END:DAYLIGHT
BEGIN:STANDARD
TZOFFSETFROM:+0200
TZOFFSETTO:+0100
TZNAME:CET
DTSTART:20241027T010000
END:STANDARD
BEGIN:DAYLIGHT
TZOFFSETFROM:+0100
TZOFFSETTO:+0200
TZNAME:CEST
DTSTART:20250330T010000
END:DAYLIGHT
BEGIN:STANDARD
TZOFFSETFROM:+0200
TZOFFSETTO:+0100
TZNAME:CET
DTSTART:20251026T010000
END:STANDARD
BEGIN:DAYLIGHT
TZOFFSETFROM:+0100
TZOFFSETTO:+0200
TZNAME:CEST
DTSTART:20260329T010000
END:DAYLIGHT
BEGIN:STANDARD
TZOFFSETFROM:+0200
TZOFFSETTO:+0100
TZNAME:CET
DTSTART:20261025T010000
END:STANDARD
END:VTIMEZONE
BEGIN:VEVENT
DTSTART;TZID=Europe/Berlin:20250927T110000
DTEND;TZID=Europe/Berlin:20250927T180000
DTSTAMP:20260425T053257
CREATED:20250802T145953Z
LAST-MODIFIED:20250802T145953Z
UID:4128-1758970800-1758996000@kulturmuehle-rechberghausen.de
SUMMARY:WEIBERMARKT
DESCRIPTION:Link zur Veranstaltung ( nicht in allen Ansichten aktiv)
URL:https://kulturmuehle-rechberghausen.de/event/weibermarkt-3/
LOCATION:Kulturmühle Rechberghausen e.V.\, Bahnhofstr. 3\, Rechberghausen\, 73098\, Deutschland
END:VEVENT
BEGIN:VEVENT
DTSTART;TZID=Europe/Berlin:20250928T110000
DTEND;TZID=Europe/Berlin:20250928T180000
DTSTAMP:20260425T053257
CREATED:20250802T150105Z
LAST-MODIFIED:20250802T150105Z
UID:4130-1759057200-1759082400@kulturmuehle-rechberghausen.de
SUMMARY:WEIBERMARKT
DESCRIPTION:Link zur Veranstaltung ( nicht in allen Ansichten aktiv)
URL:https://kulturmuehle-rechberghausen.de/event/weibermarkt-4/
END:VEVENT
END:VCALENDAR