BEGIN:VCALENDAR
VERSION:2.0
PRODID:-//KULTURMÜHLE RECHBERGHAUSEN e.V.  - ECPv6.15.20//NONSGML v1.0//EN
CALSCALE:GREGORIAN
METHOD:PUBLISH
X-WR-CALNAME:KULTURMÜHLE RECHBERGHAUSEN e.V. 
X-ORIGINAL-URL:https://kulturmuehle-rechberghausen.de
X-WR-CALDESC:Veranstaltungen für KULTURMÜHLE RECHBERGHAUSEN e.V. 
REFRESH-INTERVAL;VALUE=DURATION:PT1H
X-Robots-Tag:noindex
X-PUBLISHED-TTL:PT1H
BEGIN:VTIMEZONE
TZID:Europe/Berlin
BEGIN:DAYLIGHT
TZOFFSETFROM:+0100
TZOFFSETTO:+0200
TZNAME:CEST
DTSTART:20240331T010000
END:DAYLIGHT
BEGIN:STANDARD
TZOFFSETFROM:+0200
TZOFFSETTO:+0100
TZNAME:CET
DTSTART:20241027T010000
END:STANDARD
BEGIN:DAYLIGHT
TZOFFSETFROM:+0100
TZOFFSETTO:+0200
TZNAME:CEST
DTSTART:20250330T010000
END:DAYLIGHT
BEGIN:STANDARD
TZOFFSETFROM:+0200
TZOFFSETTO:+0100
TZNAME:CET
DTSTART:20251026T010000
END:STANDARD
BEGIN:DAYLIGHT
TZOFFSETFROM:+0100
TZOFFSETTO:+0200
TZNAME:CEST
DTSTART:20260329T010000
END:DAYLIGHT
BEGIN:STANDARD
TZOFFSETFROM:+0200
TZOFFSETTO:+0100
TZNAME:CET
DTSTART:20261025T010000
END:STANDARD
END:VTIMEZONE
BEGIN:VEVENT
DTSTART;TZID=Europe/Berlin:20250503T110000
DTEND;TZID=Europe/Berlin:20250503T180000
DTSTAMP:20260425T124704
CREATED:20241208T121513Z
LAST-MODIFIED:20241208T121513Z
UID:3940-1746270000-1746295200@kulturmuehle-rechberghausen.de
SUMMARY:KUNST- und HANDWERKERMARKT 2025
DESCRIPTION:Link zur Veranstaltung (Link ist nicht in allen Darstellungsformen aktiv)
URL:https://kulturmuehle-rechberghausen.de/event/kunst-und-handwerkermarkt-2025/
LOCATION:Kulturmühle Rechberghausen e.V.\, Bahnhofstr. 3\, Rechberghausen\, 73098\, Deutschland
END:VEVENT
BEGIN:VEVENT
DTSTART;TZID=Europe/Berlin:20250504T110000
DTEND;TZID=Europe/Berlin:20250504T180000
DTSTAMP:20260425T124704
CREATED:20241208T121614Z
LAST-MODIFIED:20241208T121614Z
UID:3942-1746356400-1746381600@kulturmuehle-rechberghausen.de
SUMMARY:KUNST- und HANDWERKERMARKT 2025
DESCRIPTION:Link zur Veranstaltung (Link ist nicht in allen Darstellungsformen aktiv)
URL:https://kulturmuehle-rechberghausen.de/event/kunst-und-handwerkermarkt-2025-2/
LOCATION:Kulturmühle Rechberghausen e.V.\, Bahnhofstr. 3\, Rechberghausen\, 73098\, Deutschland
END:VEVENT
BEGIN:VEVENT
DTSTART;TZID=Europe/Berlin:20250531T200000
DTEND;TZID=Europe/Berlin:20250531T230000
DTSTAMP:20260425T124704
CREATED:20241208T121754Z
LAST-MODIFIED:20241208T121754Z
UID:3944-1748721600-1748732400@kulturmuehle-rechberghausen.de
SUMMARY:Konzert: BEATPUNCH 2025
DESCRIPTION:Link zur Veranstaltung ( Link ist nicht in allen Darstellungsformen aktiv)
URL:https://kulturmuehle-rechberghausen.de/event/konzert-beatpunch-2025/
LOCATION:Kulturmühle Rechberghausen e.V.\, Bahnhofstr. 3\, Rechberghausen\, 73098\, Deutschland
END:VEVENT
END:VCALENDAR