BEGIN:VCALENDAR
VERSION:2.0
PRODID:-//KULTURMÜHLE RECHBERGHAUSEN e.V.  - ECPv6.15.20//NONSGML v1.0//EN
CALSCALE:GREGORIAN
METHOD:PUBLISH
X-ORIGINAL-URL:https://kulturmuehle-rechberghausen.de
X-WR-CALDESC:Veranstaltungen für KULTURMÜHLE RECHBERGHAUSEN e.V. 
REFRESH-INTERVAL;VALUE=DURATION:PT1H
X-Robots-Tag:noindex
X-PUBLISHED-TTL:PT1H
BEGIN:VTIMEZONE
TZID:Europe/Berlin
BEGIN:DAYLIGHT
TZOFFSETFROM:+0100
TZOFFSETTO:+0200
TZNAME:CEST
DTSTART:20240331T010000
END:DAYLIGHT
BEGIN:STANDARD
TZOFFSETFROM:+0200
TZOFFSETTO:+0100
TZNAME:CET
DTSTART:20241027T010000
END:STANDARD
BEGIN:DAYLIGHT
TZOFFSETFROM:+0100
TZOFFSETTO:+0200
TZNAME:CEST
DTSTART:20250330T010000
END:DAYLIGHT
BEGIN:STANDARD
TZOFFSETFROM:+0200
TZOFFSETTO:+0100
TZNAME:CET
DTSTART:20251026T010000
END:STANDARD
BEGIN:DAYLIGHT
TZOFFSETFROM:+0100
TZOFFSETTO:+0200
TZNAME:CEST
DTSTART:20260329T010000
END:DAYLIGHT
BEGIN:STANDARD
TZOFFSETFROM:+0200
TZOFFSETTO:+0100
TZNAME:CET
DTSTART:20261025T010000
END:STANDARD
END:VTIMEZONE
BEGIN:VEVENT
DTSTART;TZID=Europe/Berlin:20250323T110000
DTEND;TZID=Europe/Berlin:20250323T180000
DTSTAMP:20260425T160502
CREATED:20241208T120113Z
LAST-MODIFIED:20241208T120418Z
UID:3916-1742727600-1742752800@kulturmuehle-rechberghausen.de
SUMMARY:Im Spannungsfeld der Kontraste
DESCRIPTION:Ursula Busch\, Christa Eberhardt und Eva Recordon\nVERNISSAGE\, Eintritt frei \nLink zur Veranstaltung (Link ist nicht in allen Darstellungsformen aktiv)
URL:https://kulturmuehle-rechberghausen.de/event/im-spannungsfeld-der-kontraste/
LOCATION:Kulturmühle Rechberghausen e.V.\, Bahnhofstr. 3\, Rechberghausen\, 73098\, Deutschland
END:VEVENT
BEGIN:VEVENT
DTSTART;TZID=Europe/Berlin:20250329T140000
DTEND;TZID=Europe/Berlin:20250329T180000
DTSTAMP:20260425T160502
CREATED:20241208T120227Z
LAST-MODIFIED:20241208T120227Z
UID:3918-1743256800-1743271200@kulturmuehle-rechberghausen.de
SUMMARY:Im Spannungsfeld der Kontraste
DESCRIPTION:Ursula Busch\, Christa Eberhardt und Eva Recordon\nLink zur Veranstaltung (Link ist nicht in allen Darstellungsformen aktiv)
URL:https://kulturmuehle-rechberghausen.de/event/im-spannungsfeld-der-kontraste-2/
END:VEVENT
BEGIN:VEVENT
DTSTART;TZID=Europe/Berlin:20250330T140000
DTEND;TZID=Europe/Berlin:20250330T180000
DTSTAMP:20260425T160502
CREATED:20241208T120327Z
LAST-MODIFIED:20241208T120327Z
UID:3920-1743343200-1743357600@kulturmuehle-rechberghausen.de
SUMMARY:Im Spannungsfeld der Kontraste
DESCRIPTION:Ursula Busch\, Christa Eberhardt und Eva Recordon\nLink zur Veranstaltung (Link ist nicht in allen Darstellungsformen aktiv)
URL:https://kulturmuehle-rechberghausen.de/event/im-spannungsfeld-der-kontraste-3/
LOCATION:Kulturmühle Rechberghausen e.V.\, Bahnhofstr. 3\, Rechberghausen\, 73098\, Deutschland
END:VEVENT
END:VCALENDAR