BEGIN:VCALENDAR
VERSION:2.0
PRODID:-//KULTURMÜHLE RECHBERGHAUSEN e.V.  - ECPv6.15.20//NONSGML v1.0//EN
CALSCALE:GREGORIAN
METHOD:PUBLISH
X-ORIGINAL-URL:https://kulturmuehle-rechberghausen.de
X-WR-CALDESC:Veranstaltungen für KULTURMÜHLE RECHBERGHAUSEN e.V. 
REFRESH-INTERVAL;VALUE=DURATION:PT1H
X-Robots-Tag:noindex
X-PUBLISHED-TTL:PT1H
BEGIN:VTIMEZONE
TZID:Europe/Berlin
BEGIN:DAYLIGHT
TZOFFSETFROM:+0100
TZOFFSETTO:+0200
TZNAME:CEST
DTSTART:20240331T010000
END:DAYLIGHT
BEGIN:STANDARD
TZOFFSETFROM:+0200
TZOFFSETTO:+0100
TZNAME:CET
DTSTART:20241027T010000
END:STANDARD
BEGIN:DAYLIGHT
TZOFFSETFROM:+0100
TZOFFSETTO:+0200
TZNAME:CEST
DTSTART:20250330T010000
END:DAYLIGHT
BEGIN:STANDARD
TZOFFSETFROM:+0200
TZOFFSETTO:+0100
TZNAME:CET
DTSTART:20251026T010000
END:STANDARD
BEGIN:DAYLIGHT
TZOFFSETFROM:+0100
TZOFFSETTO:+0200
TZNAME:CEST
DTSTART:20260329T010000
END:DAYLIGHT
BEGIN:STANDARD
TZOFFSETFROM:+0200
TZOFFSETTO:+0100
TZNAME:CET
DTSTART:20261025T010000
END:STANDARD
END:VTIMEZONE
BEGIN:VEVENT
DTSTART;TZID=Europe/Berlin:20250201T140000
DTEND;TZID=Europe/Berlin:20250201T170000
DTSTAMP:20260425T174806
CREATED:20241208T115051Z
LAST-MODIFIED:20241208T115051Z
UID:3905-1738418400-1738429200@kulturmuehle-rechberghausen.de
SUMMARY:Rabenschwarz und Blütenweiß! … und warum nicht Farbe?
DESCRIPTION:Xenia Muscat und Jo Winter\nLink zur Veranstaltung (Link ist nicht in allen Darstellungsformen aktiv)
URL:https://kulturmuehle-rechberghausen.de/event/rabenschwarz-und-bluetenweiss-und-warum-nicht-farbe-6/
END:VEVENT
BEGIN:VEVENT
DTSTART;TZID=Europe/Berlin:20250202T140000
DTEND;TZID=Europe/Berlin:20250202T170000
DTSTAMP:20260425T174806
CREATED:20241208T115128Z
LAST-MODIFIED:20241208T115237Z
UID:3907-1738504800-1738515600@kulturmuehle-rechberghausen.de
SUMMARY:Rabenschwarz und Blütenweiß! … und warum nicht Farbe?
DESCRIPTION:Xenia Muscat und Jo Winter\nLink zur Veranstaltung (Link ist nicht in allen Darstellungsformen aktiv)
URL:https://kulturmuehle-rechberghausen.de/event/rabenschwarz-und-bluetenweiss-und-warum-nicht-farbe-7/
END:VEVENT
BEGIN:VEVENT
DTSTART;TZID=Europe/Berlin:20250208T140000
DTEND;TZID=Europe/Berlin:20250208T170000
DTSTAMP:20260425T174806
CREATED:20241208T115312Z
LAST-MODIFIED:20241208T115312Z
UID:3910-1739023200-1739034000@kulturmuehle-rechberghausen.de
SUMMARY:Rabenschwarz und Blütenweiß! … und warum nicht Farbe
DESCRIPTION:Xenia Muscat und Jo Winter\nLink zur Veranstaltung (Link ist nicht in allen Darstellungsformen aktiv)
URL:https://kulturmuehle-rechberghausen.de/event/rabenschwarz-und-bluetenweiss-und-warum-nicht-farbe-8/
END:VEVENT
BEGIN:VEVENT
DTSTART;TZID=Europe/Berlin:20250209T140000
DTEND;TZID=Europe/Berlin:20250209T170000
DTSTAMP:20260425T174806
CREATED:20241208T115351Z
LAST-MODIFIED:20241208T115351Z
UID:3912-1739109600-1739120400@kulturmuehle-rechberghausen.de
SUMMARY:Rabenschwarz und Blütenweiß! … und warum nicht Farbe?
DESCRIPTION:Xenia Muscat und Jo Winter\nLink zur Veranstaltung (Link ist nicht in allen Darstellungsformen aktiv)
URL:https://kulturmuehle-rechberghausen.de/event/rabenschwarz-und-bluetenweiss-und-warum-nicht-farbe-9/
END:VEVENT
BEGIN:VEVENT
DTSTART;TZID=Europe/Berlin:20250212T190000
DTEND;TZID=Europe/Berlin:20250212T190000
DTSTAMP:20260425T174806
CREATED:20250113T150814Z
LAST-MODIFIED:20250113T150913Z
UID:3985-1739386800-1739386800@kulturmuehle-rechberghausen.de
SUMMARY:Hauptversammlung der Mitglieder
DESCRIPTION:Die Hauptversammlung der Mitglieder findet dieses Jahr in der Kulturmühle Rechberghausen statt.
URL:https://kulturmuehle-rechberghausen.de/event/hauptversammlung-der-mitglieder/
LOCATION:Kulturmühle Rechberghausen e.V.\, Bahnhofstr. 3\, Rechberghausen\, 73098\, Deutschland
END:VEVENT
END:VCALENDAR