BEGIN:VCALENDAR
VERSION:2.0
PRODID:-//KULTURMÜHLE RECHBERGHAUSEN e.V.  - ECPv6.15.20//NONSGML v1.0//EN
CALSCALE:GREGORIAN
METHOD:PUBLISH
X-WR-CALNAME:KULTURMÜHLE RECHBERGHAUSEN e.V. 
X-ORIGINAL-URL:https://kulturmuehle-rechberghausen.de
X-WR-CALDESC:Veranstaltungen für KULTURMÜHLE RECHBERGHAUSEN e.V. 
REFRESH-INTERVAL;VALUE=DURATION:PT1H
X-Robots-Tag:noindex
X-PUBLISHED-TTL:PT1H
BEGIN:VTIMEZONE
TZID:Europe/Berlin
BEGIN:DAYLIGHT
TZOFFSETFROM:+0100
TZOFFSETTO:+0200
TZNAME:CEST
DTSTART:20230326T010000
END:DAYLIGHT
BEGIN:STANDARD
TZOFFSETFROM:+0200
TZOFFSETTO:+0100
TZNAME:CET
DTSTART:20231029T010000
END:STANDARD
BEGIN:DAYLIGHT
TZOFFSETFROM:+0100
TZOFFSETTO:+0200
TZNAME:CEST
DTSTART:20240331T010000
END:DAYLIGHT
BEGIN:STANDARD
TZOFFSETFROM:+0200
TZOFFSETTO:+0100
TZNAME:CET
DTSTART:20241027T010000
END:STANDARD
BEGIN:DAYLIGHT
TZOFFSETFROM:+0100
TZOFFSETTO:+0200
TZNAME:CEST
DTSTART:20250330T010000
END:DAYLIGHT
BEGIN:STANDARD
TZOFFSETFROM:+0200
TZOFFSETTO:+0100
TZNAME:CET
DTSTART:20251026T010000
END:STANDARD
END:VTIMEZONE
BEGIN:VEVENT
DTSTART;TZID=Europe/Berlin:20241210T193000
DTEND;TZID=Europe/Berlin:20241210T210000
DTSTAMP:20260425T210639
CREATED:20240201T152721Z
LAST-MODIFIED:20240201T152906Z
UID:3478-1733859000-1733864400@kulturmuehle-rechberghausen.de
SUMMARY:Stammtisch
DESCRIPTION:Stammtisch für Mitglieder der Kulturmühle e.V und solche die es vielleicht werden wollen. \nOrt: FLAIR Restaurant Sportpark Lindach\, Am Desenbach 6\, 73098 Rechberghausen.
URL:https://kulturmuehle-rechberghausen.de/event/stammtisch-7/
END:VEVENT
END:VCALENDAR