BEGIN:VCALENDAR
VERSION:2.0
PRODID:-//KULTURMÜHLE RECHBERGHAUSEN e.V.  - ECPv6.15.20//NONSGML v1.0//EN
CALSCALE:GREGORIAN
METHOD:PUBLISH
X-ORIGINAL-URL:https://kulturmuehle-rechberghausen.de
X-WR-CALDESC:Veranstaltungen für KULTURMÜHLE RECHBERGHAUSEN e.V. 
REFRESH-INTERVAL;VALUE=DURATION:PT1H
X-Robots-Tag:noindex
X-PUBLISHED-TTL:PT1H
BEGIN:VTIMEZONE
TZID:Europe/Berlin
BEGIN:DAYLIGHT
TZOFFSETFROM:+0100
TZOFFSETTO:+0200
TZNAME:CEST
DTSTART:20250330T010000
END:DAYLIGHT
BEGIN:STANDARD
TZOFFSETFROM:+0200
TZOFFSETTO:+0100
TZNAME:CET
DTSTART:20251026T010000
END:STANDARD
BEGIN:DAYLIGHT
TZOFFSETFROM:+0100
TZOFFSETTO:+0200
TZNAME:CEST
DTSTART:20260329T010000
END:DAYLIGHT
BEGIN:STANDARD
TZOFFSETFROM:+0200
TZOFFSETTO:+0100
TZNAME:CET
DTSTART:20261025T010000
END:STANDARD
BEGIN:DAYLIGHT
TZOFFSETFROM:+0100
TZOFFSETTO:+0200
TZNAME:CEST
DTSTART:20270328T010000
END:DAYLIGHT
BEGIN:STANDARD
TZOFFSETFROM:+0200
TZOFFSETTO:+0100
TZNAME:CET
DTSTART:20271031T010000
END:STANDARD
END:VTIMEZONE
BEGIN:VEVENT
DTSTART;TZID=Europe/Berlin:20260609T183000
DTEND;TZID=Europe/Berlin:20260609T210000
DTSTAMP:20260424T182108
CREATED:20251209T164633Z
LAST-MODIFIED:20251209T164633Z
UID:4298-1781029800-1781038800@kulturmuehle-rechberghausen.de
SUMMARY:Stammtisch
DESCRIPTION:Stammtisch für Mitglieder der Kulturmühle e.V und solche die es vielleicht werden wollen. \nOrt: FLAIR Restaurant Sportpark Lindach\, Am Desenbach 6\, 73098 Rechberghausen.
URL:https://kulturmuehle-rechberghausen.de/event/stammtisch-14/
END:VEVENT
BEGIN:VEVENT
DTSTART;TZID=Europe/Berlin:20260811T193000
DTEND;TZID=Europe/Berlin:20260811T210000
DTSTAMP:20260424T182108
CREATED:20251209T164721Z
LAST-MODIFIED:20251209T164721Z
UID:4300-1786476600-1786482000@kulturmuehle-rechberghausen.de
SUMMARY:Stammtisch
DESCRIPTION:Stammtisch für Mitglieder der Kulturmühle e.V und solche die es vielleicht werden wollen. \nOrt: FLAIR Restaurant Sportpark Lindach\, Am Desenbach 6\, 73098 Rechberghausen.
URL:https://kulturmuehle-rechberghausen.de/event/stammtisch-15/
END:VEVENT
BEGIN:VEVENT
DTSTART;TZID=Europe/Berlin:20261013T193000
DTEND;TZID=Europe/Berlin:20261013T210000
DTSTAMP:20260424T182108
CREATED:20251209T164821Z
LAST-MODIFIED:20251209T164821Z
UID:4302-1791919800-1791925200@kulturmuehle-rechberghausen.de
SUMMARY:Stammtisch
DESCRIPTION:Stammtisch für Mitglieder der Kulturmühle e.V und solche die es vielleicht werden wollen. \nOrt: FLAIR Restaurant Sportpark Lindach\, Am Desenbach 6\, 73098 Rechberghausen.
URL:https://kulturmuehle-rechberghausen.de/event/stammtisch-16/
END:VEVENT
BEGIN:VEVENT
DTSTART;TZID=Europe/Berlin:20261208T193000
DTEND;TZID=Europe/Berlin:20261208T210000
DTSTAMP:20260424T182108
CREATED:20251209T164919Z
LAST-MODIFIED:20251209T164919Z
UID:4304-1796758200-1796763600@kulturmuehle-rechberghausen.de
SUMMARY:Stammtisch
DESCRIPTION:Stammtisch für Mitglieder der Kulturmühle e.V und solche die es vielleicht werden wollen. \nOrt: FLAIR Restaurant Sportpark Lindach\, Am Desenbach 6\, 73098 Rechberghausen.
URL:https://kulturmuehle-rechberghausen.de/event/stammtisch-17/
END:VEVENT
END:VCALENDAR